BEGIN:VCALENDAR
VERSION:2.0
PRODID:-//VATM - Verband der Anbieter im Digital- und Telekommunikationsmarkt e. V. - ECPv5.16.3.1//NONSGML v1.0//EN
CALSCALE:GREGORIAN
METHOD:PUBLISH
X-WR-CALNAME:VATM - Verband der Anbieter im Digital- und Telekommunikationsmarkt e. V.
X-ORIGINAL-URL:https://www.vatm.de
X-WR-CALDESC:Events for VATM - Verband der Anbieter im Digital- und Telekommunikationsmarkt e. V.
BEGIN:VTIMEZONE
TZID:Europe/Berlin
BEGIN:DAYLIGHT
TZOFFSETFROM:+0100
TZOFFSETTO:+0200
TZNAME:CEST
DTSTART:20250330T010000
END:DAYLIGHT
BEGIN:STANDARD
TZOFFSETFROM:+0200
TZOFFSETTO:+0100
TZNAME:CET
DTSTART:20251026T010000
END:STANDARD
END:VTIMEZONE
BEGIN:VEVENT
DTSTART;VALUE=DATE:20250603
DTEND;VALUE=DATE:20250606
DTSTAMP:20260425T212136
CREATED:20250219T164713Z
LAST-MODIFIED:20250401T095027Z
UID:48422-1748908800-1749167999@www.vatm.de
SUMMARY:ANGA COM 2025
DESCRIPTION:Es ist wieder so weit\, die ANGA COM 2025\, Europas  führende Fachmesse für Breitband\, Fernsehen und Online\, öffnet ihre Tore auf dem Kölner Messegelände. \nVom 03. bis 05. Juni 2025 treffen sich Netzbetreiber\, Ausrüster und Inhalteanbieter zu allen Fragen der Breitband- und Mediendistribution. \nZu den Topthemen der ANGA COM zählen: Gigabit Networks\, FTTH\, HFC\, 5G\, OTT\, AppTV\, Cloud TV\, Video Streaming\, Artificial Intelligence\, Smart City und Smart Home. Zuletzt haben an der ANGA COM mehr als 480 Aussteller aus 35 Ländern und mehr als 23.000 Besucher aus über 90 Ländern teilgenommen. \nAuch in diesem Jahr werden zahlreiche VATM-Mitglieder als Aussteller vor Ort repräsentiert sein. \n  \nDas vollständige Kongressprogramm der diesjährigen ANGA finden Sie HIER. \nGerne möchten wir Sie auf zwei besondere Highlights des Programms aufmerksam machen\, an welchen der VATM beteiligt ist. \n03.06.2025 12:30 Uhr – Update zur VATMK-Marktanalyse 2025: Fokus Inhausnetze (Kooperationspanel von ANGA und VATM) \nPanelisten:  \n\nMichael Jungwirth\, Director Public Policy\, Vodafone Group & Mitglied der Geschäftsleitung Vodafone Deutschland\, Vodafone\nWolfram Rinner\, Geschäftsführer\, GasLINE Telekommunikationsnetzgesellschaft deutscher Gasversorgungsunternehmen mbH & Co. KG\nAndreas Walter\, Geschäftsführender Gesellschafter\, Dialog Consult GmbH\nMario Zöller\, CTO\, Tele Columbus AG\n\nModeration:  \n\nPhilipp Müller\, Geschäftsführer\, ANGA der Breitbandverband e.V.\nDr. Frederic Ufer\, Geschäftsführer\, VATM e.V.\n\n  \n04.06.2025 14:30 Uhr – Mobilfunk: Wie erreichen wir die Flächendeckung bei 5G? \nPanelisten:  \n\nValentina Daiber\, Chief Officer Legal & Corporate Affairs\, Mitglied des Vorstands\, O2 Telefónica\nMichael Martin\, CEO\, 1&1 Mobilfunk GmbH\, Part of 1&1 AG\nRickmann v. Platen\, Vorstand Parnterbeziehungen (CCO)\, freenet AG\nTanja Richter\, Geschäftsführerin Technik & Network Director\, Vodafone Deutschland\n\nModeration:  \n\nDr. Frederic Ufer\, Geschäftsführer\, VATM e.V.\n\n  \n \nAls Mitglied des VATM erhalten Sie kostenlose Messetickets sowie einen Nachlass von 20% auf Kongresstickets!  \nBei Interesse wenden Sie sich bitte per E-Mail an Frau Ursula Selker us@vatm.de
URL:https://www.vatm.de/event/anga-com-2025/
LOCATION:Köln Messe Congresszentrum Nord\, Messeplatz 1\, Köln\, 50679
CATEGORIES:Allgemein,Mitglieder
ATTACH;FMTTYPE=image/jpeg:https://www.vatm.de/wp-content/uploads/2025/04/ANGA-COM-2025-1.jpg
GEO:50.9452712;6.9793283
X-APPLE-STRUCTURED-LOCATION;VALUE=URI;X-ADDRESS=Köln Messe Congresszentrum Nord Messeplatz 1 Köln 50679;X-APPLE-RADIUS=500;X-TITLE=Messeplatz 1:geo:6.9793283,50.9452712
END:VEVENT
END:VCALENDAR