BEGIN:VCALENDAR
VERSION:2.0
PRODID:-//VATM - Verband der Anbieter im Digital- und Telekommunikationsmarkt e. V. - ECPv5.16.3.1//NONSGML v1.0//EN
CALSCALE:GREGORIAN
METHOD:PUBLISH
X-WR-CALNAME:VATM - Verband der Anbieter im Digital- und Telekommunikationsmarkt e. V.
X-ORIGINAL-URL:https://www.vatm.de
X-WR-CALDESC:Events for VATM - Verband der Anbieter im Digital- und Telekommunikationsmarkt e. V.
BEGIN:VTIMEZONE
TZID:Europe/Berlin
BEGIN:DAYLIGHT
TZOFFSETFROM:+0100
TZOFFSETTO:+0200
TZNAME:CEST
DTSTART:20230326T010000
END:DAYLIGHT
BEGIN:STANDARD
TZOFFSETFROM:+0200
TZOFFSETTO:+0100
TZNAME:CET
DTSTART:20231029T010000
END:STANDARD
END:VTIMEZONE
BEGIN:VEVENT
DTSTART;TZID=Europe/Berlin:20231123T110000
DTEND;TZID=Europe/Berlin:20231123T120000
DTSTAMP:20260422T172533
CREATED:20231115T145737Z
LAST-MODIFIED:20231115T162557Z
UID:40316-1700737200-1700740800@www.vatm.de
SUMMARY:Webinar: Wie hoch ist der ROI bei der Implementierung von KI in Ihre Field Service Operations?
DESCRIPTION:Am 23. November um 11:00 Uhr erwartet Sie ein spannendes Webinar von Deepomatic zusammen mit dem VATM zum Thema „Wie hoch ist der ROI bei der Implementierung von KI in Ihre Field Service Operations?” \nDurch das Webinar begleiten wird Sie der Geschäftsführer des VATM\, Dr. Frederic Ufer\, sowie der Sales Director DACH von Deepomatic\, Herr Patrique Dias. \nIn den letzten Jahren hat sich der digitale Wandel im Field Service Operations Bereich vollzogen. Mehr Transparenz\, automatisierte Qualitätskontrolle\, Verringerung der Anzahl von Wiederholungsbesuchen vor Ort… Für Telekommunikationsunternehmen sind diese Themen relevanter denn je\, um die betriebliche Effizienz zu steigern \nWenn Unternehmen Investitionen in neue technologische Lösungen in Erwägung ziehen\, stellen sie sich die Frage nach der Messung des ROI. \nDeepomatic\, ein führendes Unternehmen im Bereich First Time Right Automation\, hat Forrester Consulting beauftragt\, den erwarteten ROI zu analysieren\, wenn Unternehmen Ihre Computer Vision Plattform implementieren. Während dieses Webinars werden Dr. Ufer und Herr Dias die Herausforderungen der TK-Branche diskutieren und die detaillierten Ergebnisse von Deepomatic’s Total Economic Impact™ vorstellen. \nWir freuen uns auf den Austausch. \n  \nZur Anmeldung geht es HIER. \n 
URL:https://www.vatm.de/event/webinar-wie-hoch-ist-der-roi-bei-der-implementierung-von-ki-in-ihre-field-service-operations/
LOCATION:Online
CATEGORIES:Allgemein,Mitglieder
ATTACH;FMTTYPE=image/jpeg:https://www.vatm.de/wp-content/uploads/2023/11/2023-11-23_Webinar-deepomatic_VATM_Wie-hoch-ist-der-ROI-bei-der-Implementierung-von-KI-in-Ihre-Field-Service-Operations-scaled.jpg
END:VEVENT
END:VCALENDAR