BEGIN:VCALENDAR
VERSION:2.0
PRODID:-//VATM - Verband der Anbieter im Digital- und Telekommunikationsmarkt e. V. - ECPv5.16.3.1//NONSGML v1.0//EN
CALSCALE:GREGORIAN
METHOD:PUBLISH
X-WR-CALNAME:VATM - Verband der Anbieter im Digital- und Telekommunikationsmarkt e. V.
X-ORIGINAL-URL:https://www.vatm.de
X-WR-CALDESC:Events for VATM - Verband der Anbieter im Digital- und Telekommunikationsmarkt e. V.
BEGIN:VTIMEZONE
TZID:Europe/Berlin
BEGIN:DAYLIGHT
TZOFFSETFROM:+0100
TZOFFSETTO:+0200
TZNAME:CEST
DTSTART:20190331T010000
END:DAYLIGHT
BEGIN:STANDARD
TZOFFSETFROM:+0200
TZOFFSETTO:+0100
TZNAME:CET
DTSTART:20191027T010000
END:STANDARD
END:VTIMEZONE
BEGIN:VEVENT
DTSTART;VALUE=DATE:20191209
DTEND;VALUE=DATE:20191211
DTSTAMP:20260425T131640
CREATED:20190916T133748Z
LAST-MODIFIED:20190916T133748Z
UID:20006-1575849600-1576022399@www.vatm.de
SUMMARY:AK Recht und Regulierung
DESCRIPTION:Teilnahme NUR für Mitgliedsunternehmen! \n  \n 
URL:https://www.vatm.de/event/ak-recht-und-regulierung-3-2-2-2/
LOCATION:Brüssel
CATEGORIES:Allgemein
ATTACH;FMTTYPE=image/jpeg:https://www.vatm.de/wp-content/uploads/2018/12/logo-e1545987290991.jpg
ORGANIZER;CN="VATM%20e.V.":MAILTO:event@vatm.de
END:VEVENT
BEGIN:VEVENT
DTSTART;TZID=Europe/Berlin:20191209T130000
DTEND;TZID=Europe/Berlin:20191210T140000
DTSTAMP:20260425T131640
CREATED:20190916T133600Z
LAST-MODIFIED:20191018T120153Z
UID:20003-1575896400-1575986400@www.vatm.de
SUMMARY:AK Recht und Regulierung
DESCRIPTION:Unsere Sitzung zum Jahresabschluss findet in einem 2-tägigen Format in Brüssel statt. BEREC-Leitlinien\, EU-Märkteempfehlung 2020 und neues EU-Beihilferecht sind für die Wettbewerber äußerst relevante Entwicklungen\, die den Markt in den nächsten Jahren prägen und einen Besuch in Brüssel zum Ende des Jahres lohnenswert machen werden. Natürlich werden wir auch die obligatorischen AK RR Tagesordnungspunkte thematisieren.\nZu Gast sind wir am Montag bei RA Robert Klotz von der Kanzlei Sheppard Mullin (https://www.sheppardmullin.com/brussels) sowie am Dienstag bei RA Bjoern Herbers von CMS Hasche Sigle (https://cms.law/en/BEL/Office/Brussels-EU-Law-Office). \nAls Gastreferentin haben wir bereits Dr. Annegret Groebel verpflichtet\, die uns wenige Tage nach dem BEREC Plenary Meeting aktuelle Informationen zu den kommenden Leitlinien zu VHC-Netzen\, symmetrischer Regulierung und Co-Investitionen wird berichten können. Groebel ist seit 2009 Abteilungsleiterin Internationales/Regulierung Post bei der BNetzA. Seit Gründung von BEREC 2010 ist sie aktives Seniormitglied sowie Leiterin der Arbeitsgruppe „Regulatory Accounting“. \nEin weiterer Gastbeitrag wird uns einen Überblick über die Marktregulierung in anderen Ländern bieten\, wie sich beispielsweise das Geschäftskundensegment in Skandinavien oder Südeuropa entwickelt und wie der TAL-Zugang im Rest Europas auf den Glasfaserausbau ausgerichtet wird. Auch Vertreter der EU-Kommission sind zu aktuellen Themen wie der kommenden EU-Märkteempfehlung angefragt. \nAm Abend des 09.12. und nach dem ersten Teil unserer Sitzung möchten wir gerne wieder den traditionellen Weihnachtsmarkt-Besuch\, dieses Mal in der Brüsseler Altstadt\, anbieten. Ab etwa 20.00 Uhr werden wir im Anschluss auf freundliche Einladung unseres Gastgebers Sheppard Mullin in eines der umliegenden Lokale einkehren. Link für Interessierte zu den Brüsseler Weihnachtsmärkten: https://visit.brussels/de/article/winter-brussel-weihnachtsmarkte \nBitte teilen Sie uns bis Montag\, den 25.11.2019 per Mail an us@vatm.de mit\, ob Sie an der Arbeitskreissitzung teilnehmen werden. \nWeitere Informationen zum Programmablauf folgen! \n  \n 
URL:https://www.vatm.de/event/ak-recht-und-regulierung-3-2-3/
LOCATION:Kanzlei Sheppard Mullin im IT Tower\, Avenue Louise 480\, Brüssel\, 1050\, Deutschland
CATEGORIES:Mitglieder
ATTACH;FMTTYPE=image/jpeg:https://www.vatm.de/wp-content/uploads/2018/12/logo-e1545987290991.jpg
ORGANIZER;CN="VATM%20e.V.":MAILTO:event@vatm.de
END:VEVENT
END:VCALENDAR