BEGIN:VCALENDAR
VERSION:2.0
PRODID:-//VATM - Verband der Anbieter im Digital- und Telekommunikationsmarkt e. V. - ECPv5.16.3.1//NONSGML v1.0//EN
CALSCALE:GREGORIAN
METHOD:PUBLISH
X-WR-CALNAME:VATM - Verband der Anbieter im Digital- und Telekommunikationsmarkt e. V.
X-ORIGINAL-URL:https://www.vatm.de
X-WR-CALDESC:Events for VATM - Verband der Anbieter im Digital- und Telekommunikationsmarkt e. V.
BEGIN:VTIMEZONE
TZID:Europe/Berlin
BEGIN:DAYLIGHT
TZOFFSETFROM:+0100
TZOFFSETTO:+0200
TZNAME:CEST
DTSTART:20180325T010000
END:DAYLIGHT
BEGIN:STANDARD
TZOFFSETFROM:+0200
TZOFFSETTO:+0100
TZNAME:CET
DTSTART:20181028T010000
END:STANDARD
END:VTIMEZONE
BEGIN:VEVENT
DTSTART;VALUE=DATE:20181203
DTEND;VALUE=DATE:20181205
DTSTAMP:20260425T153942
CREATED:20180903T102631Z
LAST-MODIFIED:20180903T102631Z
UID:7605-1543795200-1543967999@www.vatm.de
SUMMARY:Digital Gipfel
DESCRIPTION:Informationen folgen!
URL:https://www.vatm.de/event/digital-gipfel/
LOCATION:tba Nürnberg\, Nürnberg
CATEGORIES:Mitglieder
GEO:49.4521018;11.0766654
END:VEVENT
END:VCALENDAR