BEGIN:VCALENDAR
VERSION:2.0
PRODID:-//VATM - Verband der Anbieter im Digital- und Telekommunikationsmarkt e. V. - ECPv5.16.3.1//NONSGML v1.0//EN
CALSCALE:GREGORIAN
METHOD:PUBLISH
X-WR-CALNAME:VATM - Verband der Anbieter im Digital- und Telekommunikationsmarkt e. V.
X-ORIGINAL-URL:https://www.vatm.de
X-WR-CALDESC:Events for VATM - Verband der Anbieter im Digital- und Telekommunikationsmarkt e. V.
BEGIN:VTIMEZONE
TZID:Europe/Berlin
BEGIN:DAYLIGHT
TZOFFSETFROM:+0100
TZOFFSETTO:+0200
TZNAME:CEST
DTSTART:20180325T010000
END:DAYLIGHT
BEGIN:STANDARD
TZOFFSETFROM:+0200
TZOFFSETTO:+0100
TZNAME:CET
DTSTART:20181028T010000
END:STANDARD
END:VTIMEZONE
BEGIN:VEVENT
DTSTART;TZID=Europe/Berlin:20181114T130000
DTEND;TZID=Europe/Berlin:20181114T190000
DTSTAMP:20260425T171642
CREATED:20180828T233140Z
LAST-MODIFIED:20180903T101153Z
UID:7574-1542200400-1542222000@www.vatm.de
SUMMARY:23. Breitband-Forum
DESCRIPTION:Von der Megabit- in die Gigabit-Gesellschaft: Nach Glas und Koax jetzt 5G als Turbo? \nAlle Informationen zum Programmablauf und Anmeldung finden Sie HIER. VATM-Mitgliedsunternehmen profitieren von einer vergünstigten Teilnahmegebühr! Zudem ist die Teilnahme für Vertreter der öffentlichen Hand (wie z.B. Breitbandverantwortliche aus Städten & Gemeinden) kostenfrei.
URL:https://www.vatm.de/event/23-breitband-forum/
LOCATION:TÜV Rheinland\, Am Grauen Stein\, Köln\, 51105
CATEGORIES:Allgemein,Mitglieder
END:VEVENT
END:VCALENDAR