BEGIN:VCALENDAR
VERSION:2.0
PRODID:-//VATM - Verband der Anbieter im Digital- und Telekommunikationsmarkt e. V. - ECPv5.16.3.1//NONSGML v1.0//EN
CALSCALE:GREGORIAN
METHOD:PUBLISH
X-WR-CALNAME:VATM - Verband der Anbieter im Digital- und Telekommunikationsmarkt e. V.
X-ORIGINAL-URL:https://www.vatm.de
X-WR-CALDESC:Events for VATM - Verband der Anbieter im Digital- und Telekommunikationsmarkt e. V.
BEGIN:VTIMEZONE
TZID:Europe/Berlin
BEGIN:DAYLIGHT
TZOFFSETFROM:+0100
TZOFFSETTO:+0200
TZNAME:CEST
DTSTART:20180325T010000
END:DAYLIGHT
BEGIN:STANDARD
TZOFFSETFROM:+0200
TZOFFSETTO:+0100
TZNAME:CET
DTSTART:20181028T010000
END:STANDARD
END:VTIMEZONE
BEGIN:VEVENT
DTSTART;VALUE=DATE:20181108
DTEND;VALUE=DATE:20181109
DTSTAMP:20260425T170132
CREATED:20180828T232902Z
LAST-MODIFIED:20180903T101103Z
UID:7570-1541635200-1541721599@www.vatm.de
SUMMARY:3. Breitbandforum Mecklenburg-Vorpommern
DESCRIPTION:Zum ersten Mal findet das Breitbandforum Mecklenburg-Vorpommern mit Fachausstellung mit dem VATM als Partner statt. \nKeynotes\, Vorträge und Podiumsdiskussionen werden nicht nur aktuelle politische und technische Themen des Breitbandausbaus beleuchten\, sondern vor allem auch Fragen wie: Welche Chancen und welche Herausforderungen bergen der digitale Wandel und insbesondere E-Government für Städte und Gemeinden? Welche Rolle spielt der neue Mobilfunkstandard 5G bei der Vernetzung von Industrie und Gesellschaft? Wie wohnen wir morgen? Die Veranstaltung in Rostock-Warnemünde bietet die Gelegenheit\, um mit kommunalen Entscheidern und mit Branchenkollegen ins Gespräch zu kommen. \nIm Kongresszentrum Hohe Düne in Rostock-Warnemünde präsentieren in der begleitenden Fachausstellung Unternehmen ihre Lösungen und Produkte für den fachgerechten und langlebigen Glasfaserausbau. VATM-Mitglieder können dort zu besonderen Bedingungen ihre Produkte und Leistungen im Rahmen des Forums präsentieren und einen Speaker Slot buchen. \nVATM-Mitgliedsunternehmen erhalten einen 10-Prozent-Bonus auf die Standmiete und die Buchung eines Speaker Slots. \nAlle Informationen zum Programmablauf und Anmeldungen finden Sie HIER. \nPowerd by:
URL:https://www.vatm.de/event/3-breitbandforum-mecklenburg-vorpommern/
LOCATION:Kongresszentrum Hohe Düne\, Rostock
CATEGORIES:Allgemein,Mitglieder
END:VEVENT
END:VCALENDAR