BEGIN:VCALENDAR
VERSION:2.0
PRODID:-//VATM - Verband der Anbieter im Digital- und Telekommunikationsmarkt e. V. - ECPv5.16.3.1//NONSGML v1.0//EN
CALSCALE:GREGORIAN
METHOD:PUBLISH
X-WR-CALNAME:VATM - Verband der Anbieter im Digital- und Telekommunikationsmarkt e. V.
X-ORIGINAL-URL:https://www.vatm.de
X-WR-CALDESC:Events for VATM - Verband der Anbieter im Digital- und Telekommunikationsmarkt e. V.
BEGIN:VTIMEZONE
TZID:Europe/Berlin
BEGIN:DAYLIGHT
TZOFFSETFROM:+0100
TZOFFSETTO:+0200
TZNAME:CEST
DTSTART:20180325T010000
END:DAYLIGHT
BEGIN:STANDARD
TZOFFSETFROM:+0200
TZOFFSETTO:+0100
TZNAME:CET
DTSTART:20181028T010000
END:STANDARD
END:VTIMEZONE
BEGIN:VEVENT
DTSTART;VALUE=DATE:20181011
DTEND;VALUE=DATE:20181012
DTSTAMP:20260425T184104
CREATED:20180828T232655Z
LAST-MODIFIED:20180903T101134Z
UID:7567-1539216000-1539302399@www.vatm.de
SUMMARY:AK Sicherheit und Datenschutz
DESCRIPTION:Teilnahme NUR für VATM-Mitgliedsunternehmen!
URL:https://www.vatm.de/event/ak-sicherheit-und-datenschutz/
LOCATION:Düsseldorf\, Düsseldorf
CATEGORIES:Allgemein,Mitglieder
ORGANIZER;CN="VATM%20e.V.":MAILTO:event@vatm.de
END:VEVENT
END:VCALENDAR