BEGIN:VCALENDAR
VERSION:2.0
PRODID:-//VATM - Verband der Anbieter im Digital- und Telekommunikationsmarkt e. V. - ECPv5.16.3.1//NONSGML v1.0//EN
CALSCALE:GREGORIAN
METHOD:PUBLISH
X-WR-CALNAME:VATM - Verband der Anbieter im Digital- und Telekommunikationsmarkt e. V.
X-ORIGINAL-URL:https://www.vatm.de
X-WR-CALDESC:Events for VATM - Verband der Anbieter im Digital- und Telekommunikationsmarkt e. V.
BEGIN:VTIMEZONE
TZID:Europe/Berlin
BEGIN:DAYLIGHT
TZOFFSETFROM:+0100
TZOFFSETTO:+0200
TZNAME:CEST
DTSTART:20180325T010000
END:DAYLIGHT
BEGIN:STANDARD
TZOFFSETFROM:+0200
TZOFFSETTO:+0100
TZNAME:CET
DTSTART:20181028T010000
END:STANDARD
END:VTIMEZONE
BEGIN:VEVENT
DTSTART;VALUE=DATE:20180927
DTEND;VALUE=DATE:20180928
DTSTAMP:20260425T195548
CREATED:20180828T230807Z
LAST-MODIFIED:20180903T101013Z
UID:7553-1538006400-1538092799@www.vatm.de
SUMMARY:Mobile Media Forum 2018
DESCRIPTION:Zum Thema „Smart Services & Devices: Mobile Plattformen im Kontext von Internet of Things\, Big Data & Smart Cities“ sind Branchenvertreter\, Hochschulmitarbeiter und Interessierte eingeladen\, an der Veranstaltung teilzunehmen. In bewährter Weise bringt das Mobile Media Forum Studierende und Unternehmen zusammen\, bietet ihnen Raum zum Netzwerken und lockt mit Fachvorträgen zu aktuellen Themen direkt aus der Praxis. \nSmarte Systeme und mobile Plattformen übernehmen in allen unseren Lebensbereichen eine immer größere Rolle. Smart Home-Systeme dienen längst nicht mehr nur dem Monitoring der heimischen Sicherheit\, sondern ermöglichen durch die Vernetzung verschiedener Geräte und Systeme im Haus eine Optimierung des Alltags – von der automatischen Regulierung der idealen Temperatur bis hin zu automatisierten\, bedarfsgerechten Einkäufen. Auch im Verkehr sind mobile Plattformen nicht mehr nur Auskunftsdienste\, sondern vernetzen Informationen\, Services und Verkehrsmittel. Die damit verbundene große Datenmenge\, die sichere und zielführende Vernetzung von Informationen und Systemen und nicht zuletzt die mobilen Plattformen als Schnittstelle zum User bergen gleichzeitig große Herausforderungen und einzigartige Chancen. \nFreuen Sie sich beim 11. Mobile Media Forum auf anregende Diskussionen zu aktuellen Trends und Ansätzen\, die diesen Herausforderungen und Chancen begegnen. \nWeitere Informationen zum Programmablauf und Anmeldung finden Sie HIER. \nVATM-Mitglieder erhalten Tickets zu einem vergünstigten Save-Date-Preis\, welcher bis 29.06.2018 gültig ist. Ab dem 30.06.2018 gilt der Normalpreis – auch hier erhalten VATM-Mitgliedsunternehmen einen vergünstigten Partnerpreis.
URL:https://www.vatm.de/event/mobile-media-forum-2018/
LOCATION:Hochschule RheinMain\, Kurt-Schumacher-Ring 18\, Wiesbaden\, 65197
CATEGORIES:Allgemein,Mitglieder
GEO:50.0808438;8.2181161
X-APPLE-STRUCTURED-LOCATION;VALUE=URI;X-ADDRESS=Hochschule RheinMain Kurt-Schumacher-Ring 18 Wiesbaden 65197;X-APPLE-RADIUS=500;X-TITLE=Kurt-Schumacher-Ring 18:geo:8.2181161,50.0808438
END:VEVENT
BEGIN:VEVENT
DTSTART;VALUE=DATE:20180927
DTEND;VALUE=DATE:20180929
DTSTAMP:20260425T195548
CREATED:20180828T231341Z
LAST-MODIFIED:20180903T101038Z
UID:7558-1538006400-1538179199@www.vatm.de
SUMMARY:Kundenservice & Verbraucherschutz 3.0 - gemeinsame Infothek von VATM & BUGLAS
DESCRIPTION:Wir werden Ihnen wieder einen gewohnt interessanten Mix aus Fachvorträgen zu den aktuellen Branchenthemen sowie der Gelegenheit zum Netzwerken mit Kollegen aus den Unternehmen anbieten. Aktuell stellen wir die Agenda zusammen\, wissen aber bereits\, dass wir uns mit folgenden Themen intensiv auseinandersetzen werden: \n\nÜberblick über die Rechtsprechung im Bereich Kundenschutz\nÜberblick über die verbraucherschützenden Vorschriften im TKG\nePrivacy Verordnung – Auswirkungen und Handlungsbedarf für die Unternehmen\nThemen des Marktwächters Digitale Welt\, VZBV Schlesweig Holstein\nTK-Transparenz-VO in der Praxis\, Erfahrungen mit PIB & Co.\nBreitbandmessung durch die BNetzA – was kommt als Nächstes?\nEECC und Brüssel – Änderungen im Verbraucherschutz\nund und und\n\nWir haben die Veranstaltung wieder ganz bewusst auf zwei Tage angesetzt\, um am Abend des ersten Tages reichlich Möglichkeiten zum Netzwerken im schönen Ambiente zu bieten. \nDazu hat unser Gastgeber KSP Rechtsanwälte bereits eine Einladung zu einer Alsterrundfahrt mit Dampfschiff und zur Einkehr in ein am Ufer gelegenes Restaurant ausgesprochen. \nWeitere Informationen zum Programmablauf finden Sie HIER! \nBitte melden Sie sich bis Ende August bei unserer Geschäftsstelle (Frau Ursula Selker) via Mail zu dieser Veranstaltung an\, damit wir die erforderlichen Kapazitäten organisieren können. \nMit freundlicher Unterstützung von:
URL:https://www.vatm.de/event/kundenservice-verbraucherschutz-3-0-gemeinsame-infothek-von-vatm-buglas/
LOCATION:KSP\, Kaiser-Wilhelm-Straße 40\, Hamburg\, 20355
CATEGORIES:Allgemein,Mitglieder
ORGANIZER;CN="VATM%20e.V.":MAILTO:event@vatm.de
END:VEVENT
END:VCALENDAR