BEGIN:VCALENDAR
VERSION:2.0
PRODID:-//VATM - Verband der Anbieter im Digital- und Telekommunikationsmarkt e. V. - ECPv5.16.3.1//NONSGML v1.0//EN
CALSCALE:GREGORIAN
METHOD:PUBLISH
X-WR-CALNAME:VATM - Verband der Anbieter im Digital- und Telekommunikationsmarkt e. V.
X-ORIGINAL-URL:https://www.vatm.de
X-WR-CALDESC:Events for VATM - Verband der Anbieter im Digital- und Telekommunikationsmarkt e. V.
BEGIN:VTIMEZONE
TZID:Europe/Berlin
BEGIN:DAYLIGHT
TZOFFSETFROM:+0100
TZOFFSETTO:+0200
TZNAME:CEST
DTSTART:20180325T010000
END:DAYLIGHT
BEGIN:STANDARD
TZOFFSETFROM:+0200
TZOFFSETTO:+0100
TZNAME:CET
DTSTART:20181028T010000
END:STANDARD
END:VTIMEZONE
BEGIN:VEVENT
DTSTART;VALUE=DATE:20180924
DTEND;VALUE=DATE:20180925
DTSTAMP:20260425T195127
CREATED:20180903T101950Z
LAST-MODIFIED:20180903T102052Z
UID:7597-1537747200-1537833599@www.vatm.de
SUMMARY:Dialog.DIGITAL "Auf dem Weg in die Gigabit-Gesellschaft"
DESCRIPTION:SAVE THE DATE \nDer Minister für Wirtschaft\, Innovation\, Digitalisierung und Energie des Landes Nordrhein-Westfalen Prof. Dr. Andreas Pinkwart und der VATM laden Sie herzlich zu einer Diskussion im Rahmen der Veranstaltungsreihe NRW: Dialog.DIGITAL „Auf dem Weg in die Gigabit-Gesellschaft: Die NRW-Digitalstrategie 2018“ ein. \nDie Podiumsdiskussion mit Minister Prof. Dr. Pinkwart\, Dr. Christoph Clément\, Mitglied der Geschäftsleitung\, Vodafone GmbH und anderen Panelteilnehmern wird simultan übersetzt (Deutsch-Englisch/Englisch-Deutsch). \nIm Anschluss daran wird es zum Ausklang ein Get-together geben. \nWeitere Informationen folgen. Teilnahme NUR nach Anmeldung möglich!
URL:https://www.vatm.de/event/dialog-digital-auf-dem-weg-in-die-gigabit-gesellschaft/
LOCATION:Vertretung des Landes Nordrhein-Westfalen bei der EU\, Rue Montoyer 47\, Brüssel\, 1000\, Belgien
CATEGORIES:Mitglieder
ORGANIZER;CN="VATM%20e.V.":MAILTO:event@vatm.de
GEO:50.8408597;4.3709325
X-APPLE-STRUCTURED-LOCATION;VALUE=URI;X-ADDRESS=Vertretung des Landes Nordrhein-Westfalen bei der EU Rue Montoyer 47 Brüssel 1000 Belgien;X-APPLE-RADIUS=500;X-TITLE=Rue Montoyer 47:geo:4.3709325,50.8408597
END:VEVENT
END:VCALENDAR