BEGIN:VCALENDAR
VERSION:2.0
PRODID:-//VATM - Verband der Anbieter im Digital- und Telekommunikationsmarkt e. V. - ECPv5.16.3.1//NONSGML v1.0//EN
CALSCALE:GREGORIAN
METHOD:PUBLISH
X-WR-CALNAME:VATM - Verband der Anbieter im Digital- und Telekommunikationsmarkt e. V.
X-ORIGINAL-URL:https://www.vatm.de
X-WR-CALDESC:Events for VATM - Verband der Anbieter im Digital- und Telekommunikationsmarkt e. V.
BEGIN:VTIMEZONE
TZID:Europe/Berlin
BEGIN:DAYLIGHT
TZOFFSETFROM:+0100
TZOFFSETTO:+0200
TZNAME:CEST
DTSTART:20180325T010000
END:DAYLIGHT
BEGIN:STANDARD
TZOFFSETFROM:+0200
TZOFFSETTO:+0100
TZNAME:CET
DTSTART:20181028T010000
END:STANDARD
END:VTIMEZONE
BEGIN:VEVENT
DTSTART;TZID=Europe/Berlin:20180919T143000
DTEND;TZID=Europe/Berlin:20180919T220000
DTSTAMP:20260425T195452
CREATED:20180828T230531Z
LAST-MODIFIED:20180903T100953Z
UID:7549-1537367400-1537394400@www.vatm.de
SUMMARY:TEC-Jahrestagung: Strategischer Ausblick auf den TK-Markt - Wachstum\, Kooperationen\, Regulierung
DESCRIPTION:Die Zukunft der Telekommunikation und die möglichen Wachstumsimpulse sind zentrale Themen\, die gegenwärtig von hoher Relevanz für den Markt sind. \nIn drei spannenden Diskussionsrunden und einem Einzelinterview laden wir zu einem anregenden Austausch zu folgenden zentralen Fragestellungen ein: \n\nDISKUSSIONSRUNDE\nWETTBEWERB UND KOOPERATIONEN –\nWIE SIEHT DER TK-MARKT DER ZUKUNFT AUS?\nDISKUSSIONSRUNDE\nDAS GIGABIT-ZEITALTER –\nSIND DIE RICHTIGEN VORAUSSETZUNGEN GEGEBEN?\nDISKUSSIONSRUNDE\nMEHR ALS CONNECTIVITY –\nWAS SIND DIE WACHSTUMSTREIBER?\n\nUnser Geschäftsführer Jürgen Grützner wird an der 2. Diskussionsrunde teilnehmen. \nWeitere Informationen zum Programmablauf finden Sie HIER. \nGerne können Sie sich HIER für die Veranstaltung anmelden. VATM-Mitgliedsunternehmen profitieren von einer vergünstigten Teilnahmegebühr. Für den Code wenden Sie sich bitte via Mail an unsere Geschäftsstelle.
URL:https://www.vatm.de/event/tec-jahrestagung-strategischer-ausblick-auf-den-tk-markt-wachstum-kooperationen-regulierung/
LOCATION:PWC Tower\, Friedrich-Ebert-Anlage 35-37\, Frankfurt am Main\, 60327
CATEGORIES:Allgemein,Mitglieder
GEO:50.1102774;8.6560176
X-APPLE-STRUCTURED-LOCATION;VALUE=URI;X-ADDRESS=PWC Tower Friedrich-Ebert-Anlage 35-37 Frankfurt am Main 60327;X-APPLE-RADIUS=500;X-TITLE=Friedrich-Ebert-Anlage 35-37:geo:8.6560176,50.1102774
END:VEVENT
END:VCALENDAR