BEGIN:VCALENDAR
VERSION:2.0
PRODID:-//VATM - Verband der Anbieter im Digital- und Telekommunikationsmarkt e. V. - ECPv5.16.3.1//NONSGML v1.0//EN
CALSCALE:GREGORIAN
METHOD:PUBLISH
X-WR-CALNAME:VATM - Verband der Anbieter im Digital- und Telekommunikationsmarkt e. V.
X-ORIGINAL-URL:https://www.vatm.de
X-WR-CALDESC:Events for VATM - Verband der Anbieter im Digital- und Telekommunikationsmarkt e. V.
BEGIN:VTIMEZONE
TZID:Europe/Berlin
BEGIN:DAYLIGHT
TZOFFSETFROM:+0100
TZOFFSETTO:+0200
TZNAME:CEST
DTSTART:20190331T010000
END:DAYLIGHT
BEGIN:STANDARD
TZOFFSETFROM:+0200
TZOFFSETTO:+0100
TZNAME:CET
DTSTART:20191027T010000
END:STANDARD
END:VTIMEZONE
BEGIN:VEVENT
DTSTART;TZID=Europe/Berlin:20190917T110000
DTEND;TZID=Europe/Berlin:20190917T120000
DTSTAMP:20260425T020235
CREATED:20190905T142613Z
LAST-MODIFIED:20190905T142613Z
UID:19841-1568718000-1568721600@www.vatm.de
SUMMARY:Webinar zur Finanzierung des Glasfaserausbaus mit Berenberg
DESCRIPTION:Die Investitionsentscheidung\, ein FTTH Netz in einer Region in Deutschland zu bauen und zu betreiben\, beruht zu einem wesentlichen Anteil auf der Auswahl einer optimalen Finanzierungsstruktur. \nUm Ihnen einen Einblick in die Finanzierungsmöglichkeiten zu geben\, bietet der VATM ein Webinar zur Finanzierung des Glasfaserausbaus an. Dieses richtet sich besonders an Betreiber und (zukünftige) Eigentümer der FTTH Netz Infrastruktur. \nUnser Mitgliedsunternehmen Berenberg wird in dem Webinar einen Überblick über die unterschiedlichen\, am Markt verfügbaren Finanzierungsmöglichkeiten eines Glasfasernetzes geben und dabei einen Schwerpunkt auf die Finanzierbarkeit von neu zu errichtenden sowie Bestands-FTTH Netzen im ländlichen Raum legen. Insbesondere wird auf die Vorzüge des eigens für Digitale Infrastrukturprojekte aufgelegten Junior Debt Funds eingegangen. \nBerenberg ist eine renommierte Privatbank mit Sitz in Hamburg und verfügt heute mit 122 Aktienanalysten über eines der größten Research-Teams in Europa. Das Aktienportfolio umfasst derzeit über 770 Unternehmen. Berenberg sucht verstärkt Möglichkeiten zur Finanzierung von Breitband-Infrastrukturprojekten. \nFranz von Abendroth\, Leiter Infrastruktur bei Berenberg\, wird nach einleitenden Worten von Uwe Nickl\, Präsidiumsmitglied des VATM und Geschäftsführer von Deutsche Glasfaser\, wichtige Einblicke in die Finanzierung des Infrastrukturausbaus liefern. \nBitte nutzen Sie die folgenden Einwahldaten: \n────────────────────────────────────────────────── \nNehmen Sie an meinem Meeting per Computer\, Tablet oder Smartphone teil.\nhttps://global.gotomeeting.com/join/274662365 \nSie können sich auch über ein Telefon einwählen.\n(Bei Geräten\, die diese Funktion unterstützen\, ist die sofortige Teilnahme über eine der unten aufgeführten Direktwahlnummern möglich.) \nDeutschland: +49 692 5736 7300\n– Direktwahl: tel:+4969257367300\,\,274662365# \nZugangscode: 274-662-365 \nSie kennen GoToMeeting noch nicht? Installieren Sie jetzt die App\, damit Sie für Ihr erstes Meeting bereit sind:
URL:https://www.vatm.de/event/webinar-zur-finanzierung-des-glasfaserausbaus-mit-berenberg/
CATEGORIES:Mitglieder
ATTACH;FMTTYPE=image/gif:https://www.vatm.de/wp-content/uploads/2016/09/port_berenberg.gif
ORGANIZER;CN="VATM%20e.V.":MAILTO:event@vatm.de
END:VEVENT
END:VCALENDAR