BEGIN:VCALENDAR
VERSION:2.0
PRODID:-//VATM - Verband der Anbieter im Digital- und Telekommunikationsmarkt e. V. - ECPv5.16.3.1//NONSGML v1.0//EN
CALSCALE:GREGORIAN
METHOD:PUBLISH
X-WR-CALNAME:VATM - Verband der Anbieter im Digital- und Telekommunikationsmarkt e. V.
X-ORIGINAL-URL:https://www.vatm.de
X-WR-CALDESC:Events for VATM - Verband der Anbieter im Digital- und Telekommunikationsmarkt e. V.
BEGIN:VTIMEZONE
TZID:Europe/Berlin
BEGIN:DAYLIGHT
TZOFFSETFROM:+0100
TZOFFSETTO:+0200
TZNAME:CEST
DTSTART:20260329T010000
END:DAYLIGHT
BEGIN:STANDARD
TZOFFSETFROM:+0200
TZOFFSETTO:+0100
TZNAME:CET
DTSTART:20261025T010000
END:STANDARD
END:VTIMEZONE
BEGIN:VEVENT
DTSTART;VALUE=DATE:20260302
DTEND;VALUE=DATE:20260304
DTSTAMP:20260421T115432
CREATED:20260212T090449Z
LAST-MODIFIED:20260212T092333Z
UID:55980-1772409600-1772582399@www.vatm.de
SUMMARY:VATM-Rundgang @Mobile World Congress 2026 & VATM-Dinner @Mobile World Congress 2026
DESCRIPTION:Am 2. März öffnet der MWC\, die Leitmesse für den Mobilfunk\, in Barcelona seine Tore. In jedem Jahr treffen sich das Who-is-Who der Branche sowie zahlreiche Journalisten in der katalanischen Hauptstadt. Der VATM ist auch in diesem Jahr dabei. \nVATM-RUNDGANG:  \nWir freuen uns\, gemeinsam mit Ihnen\, die neuesten Entwicklungen und Trends auf der größten Telco-Messe der Welt zu entdecken. Dazu planen wir – wie schon in den vergangenen Jahren – einen Rundgang zu den Ständen von VATM-Mitgliedsunternehmen. \nAm 02. und 03. März werden wir folgende Messestände besuchen: \n\n\n\n\nZTE \n\nMontag\, 02. März\, 15:00 bis 16:00 Uhr (Halle 3 Stand 3F30)\n\n\n\nTelefónica \n\nDienstag\, 03. März\, 10:00 bis 11:00 Uhr (Halle 3 Stand 3K31)\n\n\n\nHUAWEI \n\nDienstag\, 03. März\, 12:00 bis 13:00 Uhr (Halle 1 Stand 1H50)\n\n\n\nVIAVI Solutions \n\nDienstag\, 03. März\, 13:30 bis 14:30 Uhr (Halle 5 Stand 5B18)\n\n\n\nTP-Link \n\nDienstag\, 03. März\, 15:00 bis 16:00 Uhr (Halle 1 Stand 1B80)\n\n\n\n  \nVATM-DINNER  \nTraditionell ist der erste Messeabend für unser VATM-Dinner im Herzen von Barcelona reserviert. Wir freuen uns auf den Austausch über Innovationen\, Perspektiven und die Zukunft der Mobilfunkbranche mit hochkarätigen Gästen aus Politik\, Regulierung und Medien\, darunter die Vizepräsidentin der Bundesnetzagentur\, Dr. Daniela Brönstrup. \nSeien Sie daher herzlich eingeladen zum VATM-Dinner in der Altstadt von Barcelona am ersten Messetag (Montag\, den 02.03.2026). VATM-Präsidentin Valentina Daiber\, Vorständin Recht und Corporate Affairs\, Telefónica Deutschland\, wird den Abend im sehr besonderen Ambiente des Restaurants Lomo Alto eröffnen. Den genauen Standort des Restaurants finden Sie HIER \nAlle weiteren Informationen rund um den MWC finden Sie ebenfalls im VATM-Eventkalender unter: Mobile World Congress 2026 – VATM – Verband der Anbieter im Digital- und Telekommunikationsmarkt e. V.
URL:https://www.vatm.de/event/vatm-rundgang-mobile-world-congress-2026-vatm-dinner-mobile-world-congress-2025/
LOCATION:Fira Gran Via\, Av. Joan Carles I\, 64\, Barcelona\, 08908\, Spain
CATEGORIES:Allgemein,Mitglieder
ATTACH;FMTTYPE=image/png:https://www.vatm.de/wp-content/uploads/2026/02/VATM-Dinner_VATM-Rundgang_MWC-2026.png
END:VEVENT
END:VCALENDAR