BEGIN:VCALENDAR
VERSION:2.0
PRODID:-//VATM - Verband der Anbieter im Digital- und Telekommunikationsmarkt e. V. - ECPv5.16.3.1//NONSGML v1.0//EN
CALSCALE:GREGORIAN
METHOD:PUBLISH
X-WR-CALNAME:VATM - Verband der Anbieter im Digital- und Telekommunikationsmarkt e. V.
X-ORIGINAL-URL:https://www.vatm.de
X-WR-CALDESC:Events for VATM - Verband der Anbieter im Digital- und Telekommunikationsmarkt e. V.
BEGIN:VTIMEZONE
TZID:Europe/Berlin
BEGIN:DAYLIGHT
TZOFFSETFROM:+0100
TZOFFSETTO:+0200
TZNAME:CEST
DTSTART:20260329T010000
END:DAYLIGHT
BEGIN:STANDARD
TZOFFSETFROM:+0200
TZOFFSETTO:+0100
TZNAME:CET
DTSTART:20261025T010000
END:STANDARD
END:VTIMEZONE
BEGIN:VEVENT
DTSTART;TZID=Europe/Berlin:20260127T150000
DTEND;TZID=Europe/Berlin:20260127T170000
DTSTAMP:20260422T174358
CREATED:20260115T122108Z
LAST-MODIFIED:20260115T122108Z
UID:55369-1769526000-1769533200@www.vatm.de
SUMMARY:VATM / DLT - Webinar: Kostensenkende Innovationen beim Glasfaserausbau - Tempo und Nachhaltigkeit mit alternativen Verlegemethoden
DESCRIPTION:Deutschland wird umgegraben. Der Glasfaserausbau ist in vollem Gange und klar ist: Mit dem konventionellen Tiefbau wird das erforderliche Tempo zur Aufholung des Rückstands bei der digitalen Infrastruktur nicht zu halten sein. Mehr Tempo\, weniger Ressourcen-Verschwendung und einen geringeren Kostenaufwand bieten die alternativen Verlegetechnologien – grabenlose Varianten\, Pflügen\, Schleifen\, Trenching und die oberirdische Verlegung. \nIn Deutschland kommen diese Verfahren im Vergleich zu anderen Ländern immer noch selten zum Einsatz.\nWir – der Deutsche Landkreistag und der VATM – wollen in einem Fokus-Webinar am Dienstag\, den 27.01.2026\, 15:00 bis 17:00 Uhr\, mit dem Titel „Kostensenkende Innovationen beim Glasfaserausbau – Tempo und Nachhaltigkeit mit innovativen Verlegemethoden“ einen detaillierten Blick auf diese innovativen Technologien werfen und mit Praktikern aus Unternehmen\, Gigabitbüro des Bundes und Kommunalverwaltung diskutieren. \n 
URL:https://www.vatm.de/event/vatm-dlt-webinar-kostensenkende-innovationen-beim-glasfaserausbau-tempo-und-nachhaltigkeit-mit-alternativen-verlegemethoden/
LOCATION:Online – Teams-Meeting\, Deutschland
CATEGORIES:Allgemein,Mitglieder
ATTACH;FMTTYPE=image/png:https://www.vatm.de/wp-content/uploads/2026/01/2026-01-27_VATM-Webinar_Kostensenkende-Innovationen-beim-Glasfaserausbau-Tempo-und-Nachhaltigkeit-mit-alternativen-Verlegemethoden-1.png
GEO:51.165691;10.451526
END:VEVENT
END:VCALENDAR