BEGIN:VCALENDAR
VERSION:2.0
PRODID:-//VATM - Verband der Anbieter im Digital- und Telekommunikationsmarkt e. V. - ECPv5.16.3.1//NONSGML v1.0//EN
CALSCALE:GREGORIAN
METHOD:PUBLISH
X-WR-CALNAME:VATM - Verband der Anbieter im Digital- und Telekommunikationsmarkt e. V.
X-ORIGINAL-URL:https://www.vatm.de
X-WR-CALDESC:Events for VATM - Verband der Anbieter im Digital- und Telekommunikationsmarkt e. V.
BEGIN:VTIMEZONE
TZID:Europe/Berlin
BEGIN:DAYLIGHT
TZOFFSETFROM:+0100
TZOFFSETTO:+0200
TZNAME:CEST
DTSTART:20260329T010000
END:DAYLIGHT
BEGIN:STANDARD
TZOFFSETFROM:+0200
TZOFFSETTO:+0100
TZNAME:CET
DTSTART:20261025T010000
END:STANDARD
END:VTIMEZONE
BEGIN:VEVENT
DTSTART;TZID=Europe/Berlin:20260128T093000
DTEND;TZID=Europe/Berlin:20260128T160000
DTSTAMP:20260422T173819
CREATED:20250901T123555Z
LAST-MODIFIED:20260120T141933Z
UID:52667-1769592600-1769616000@www.vatm.de
SUMMARY:Präsenztreffen VATM-AK Datenschutz / KI
DESCRIPTION:Auf Einladung unseres Mitgliedsunternehmens Vodafone begrüßen wir Sie am 28. Januar 2026 zu unserem ersten Präsenztreffen des VATM-Arbeitskreises Datenschutz / KI in Düsseldorf. \nEbenfalls am 28.01.2026 findet der Europäische Datenschutztag statt\, der seit 2007 die Bedeutung des Schutzes personenbezogener Daten in einer digitalisierten Gesellschaft betont. \nUnser Präsenztreffen bietet somit einen idealen Rahmen\, um einen zukunftsgerichteten Blick auf die effiziente Datennutzung zu richten. Denn die Telekommunikationsunternehmen verfügen über riesige Datenschätze\, die nicht nur verwaltet\, sondern gezielt genutzt werden sollten. Darüber hinaus freuen wir uns Sie bereits am Vorabend\, den 27. Januar 2026\, mit freundlicher Unterstützung unseres Mitglieds Loschelder Rechtsanwälte\, zu einem gemeinsamen Dinner in angenehmer und persönlicher Atmosphäre begrüßen zu dürfen. \nNeben den aktuellen Themen des AK Datenschutzes freuen wir uns\, Ihnen ein hochkarätiges und inhaltlich anspruchsvolles Programm für unser Präsenztreffen ankündigen zu können. Expertinnen und Experten aus Regulierung und Praxis beleuchten aktuelle Entwicklungen und zentrale Fragestellungen des Datenschutzes. Zusätzlich freuen wir uns\, aufgrund der inhaltlichen Überschneidungen\, ebenfalls Aspekte der künstlichen Intelligenz aufzugreifen und mit Ihnen zu diskutieren. \nSeitens der „Bundesbeauftragten für den Datenschutz und die Informationsfreiheit“ begrüßen wir Dr. Tobias Stadler\, Leiter des Referats DI5\, mit einer Einordnung zur Vorratsdatenspeicherung. Ergänzend berichtet Andrea Sanders-Winter (BNetzA) über aktuelle Entwicklungen der Aufsicht im Hinblick auf die KI-Regulierung. \nAus dem Kreis der VATM-Mitgliedsunternehmen freuen wir uns auf einen Beitrag von Frau Dr. Kristina Schreiber sowie Herrn Dr. Pommerening von Loschelder Rechtsanwälte zum Data-Act und dessen Umsetzung in der Praxis. Des Weiteren wird unser Gastgeber Vodafone über die Datenverarbeitung im Kontext der Betrugsbekämpfung berichten. \nAls besonderes Highlight wird der VATM-Verbindungsanwalt aus den USA\, Dr. Axel Spies von der Potomac Law Group\, spannende Einblicke in die aktuellen Entwicklungen der KI-Regulierung in den Vereinigten Staaten geben. \nWir freuen uns auf Ihre Teilnahme. \n(Bitte beachten Sie\, dass es sich hierbei um eine exklusive Veranstaltung für die Mitglieder des VATM handelt.) \n 
URL:https://www.vatm.de/event/praesenztreffen-vatm-ak-datenschutz-ki/
LOCATION:Vodafone GmbH\, Ferdinand-Braun-Platz 1\, Düsseldorf\, 40549\, Germany
CATEGORIES:Allgemein,Mitglieder
ATTACH;FMTTYPE=image/png:https://www.vatm.de/wp-content/uploads/2025/09/Standard-Grafik_AK_Datenschutz_neues-VATM-Logo-2025-1.png
END:VEVENT
END:VCALENDAR