BEGIN:VCALENDAR
VERSION:2.0
PRODID:-//VATM - Verband der Anbieter im Digital- und Telekommunikationsmarkt e. V. - ECPv5.16.3.1//NONSGML v1.0//EN
CALSCALE:GREGORIAN
METHOD:PUBLISH
X-WR-CALNAME:VATM - Verband der Anbieter im Digital- und Telekommunikationsmarkt e. V.
X-ORIGINAL-URL:https://www.vatm.de
X-WR-CALDESC:Events for VATM - Verband der Anbieter im Digital- und Telekommunikationsmarkt e. V.
BEGIN:VTIMEZONE
TZID:Europe/Berlin
BEGIN:DAYLIGHT
TZOFFSETFROM:+0100
TZOFFSETTO:+0200
TZNAME:CEST
DTSTART:20220327T010000
END:DAYLIGHT
BEGIN:STANDARD
TZOFFSETFROM:+0200
TZOFFSETTO:+0100
TZNAME:CET
DTSTART:20221030T010000
END:STANDARD
END:VTIMEZONE
BEGIN:VEVENT
DTSTART;TZID=Europe/Berlin:20220921T120000
DTEND;TZID=Europe/Berlin:20220921T180000
DTSTAMP:20260426T010738
CREATED:20220919T105545Z
LAST-MODIFIED:20220919T105545Z
UID:32799-1663761600-1663783200@www.vatm.de
SUMMARY:Macht ein smartes City-Netz schon eine Smart City?
DESCRIPTION:Gerne möchten wir Sie als Kooperationspartner auf die Veranstaltung der deutschen ict + medienakademie „Macht ein smartes City-Netz schon eine Smart City? -Damit der Hype um Smart Cities sich erfüllt\, muss das Fundament stimmen.“ hinweisen. \nKommunale Unternehmen bauen und/oder betreiben Fest- und Funknetze\, ähnlich wie sie dies für Wasser\, Strom oder auch Straßen tun. Aber nicht alle tun dies und die Ansätze derjenigen\, die es tun\, sind durchaus unterschiedlich. Warum also genau tun es die einen und die anderen nicht\, wo steckt der Nutzen\, im politischen genauso wie im kommerziellen Bereich? \nFür viele Städte und Regionen ist die Frage\, ob sie selbst in Sachen digitale Infrastruktur tätig werden wollen und wie weit diese Aktivität gehen sollte\, etwa bis in die Bereitstellung attraktiver Dienste und Inhalte\, noch nicht vollumfänglich beantwortet – oder sie stellt sich immer wieder neu. Von der anderen Seite her betrachtet: Ist auf diesem Markt ein Mehr an kleinteiligem lokalen Wettbewerb ein Garant für Innovation und Kundennähe? Oder sind hier die Skalenvorteile der großen Netz-Player – eben doch ganz anders als bei Straßen – so erdrückend\, dass solche Bemühungen vom kommerziellen Ergebnis her nicht so viel Sinn ergeben? \nNeben diesen grundsätzlichen Fragestellungen ist auch Gegenstand der Diskussion\, wie mit den unterschiedlichen technologischen Ansätzen umzugehen ist\, wie es mit der Produkt-/Dienste-Palette aussieht und inwieweit lokal- oder regionalpolitische Erwägungen zu verfolgen sind. Selbst wenn die Forderung nach flächendeckender Breitestband-Infrastrukur leicht zu stellen ist\, ist noch längst nicht klar\, was das auf der Anwendungsseite in Sachen Smart Services alles möglich und auch per Business Case rechenbar macht. \nIm City Netze- und Smart Cities-Roundtable 2022 der deutschen ict + medienakademie soll anhand einer Bestandsaufnahme bei Technologien vor allem mit Blick auf einige ausgewählte Praxis-Beispiele ausgelotet werden\, was bisher ging oder eher nicht und wie sich das in Zukunft gestalten kann. \n  \nDas komplette Programm finden Sie HIER. \nVATM-Mitglieder können an dieser Veranstaltung kostenlos teilnehmen (statt regulär 190 €). \nHier geht es zur Anmeldung: TICKETS
URL:https://www.vatm.de/event/deutsche-ict-medienakademie-macht-ein-smartes-city-netz-schon-eine-smart-city/
LOCATION:CMS Hasche Sigle\, Kranhaus 1\, Im Zollhafen 18\, Köln\, 50678\, Deutschland
CATEGORIES:Allgemein,Mitglieder
ATTACH;FMTTYPE=image/gif:https://www.vatm.de/wp-content/uploads/2020/06/medienakademie.gif
GEO:50.927401;6.9661547
X-APPLE-STRUCTURED-LOCATION;VALUE=URI;X-ADDRESS=CMS Hasche Sigle Kranhaus 1 Im Zollhafen 18 Köln 50678 Deutschland;X-APPLE-RADIUS=500;X-TITLE=Kranhaus 1\, Im Zollhafen 18:geo:6.9661547,50.927401
END:VEVENT
END:VCALENDAR