BEGIN:VCALENDAR
VERSION:2.0
PRODID:-//VATM - Verband der Anbieter im Digital- und Telekommunikationsmarkt e. V. - ECPv5.16.3.1//NONSGML v1.0//EN
CALSCALE:GREGORIAN
METHOD:PUBLISH
X-WR-CALNAME:VATM - Verband der Anbieter im Digital- und Telekommunikationsmarkt e. V.
X-ORIGINAL-URL:https://www.vatm.de
X-WR-CALDESC:Events for VATM - Verband der Anbieter im Digital- und Telekommunikationsmarkt e. V.
BEGIN:VTIMEZONE
TZID:Europe/Berlin
BEGIN:DAYLIGHT
TZOFFSETFROM:+0100
TZOFFSETTO:+0200
TZNAME:CEST
DTSTART:20230326T010000
END:DAYLIGHT
BEGIN:STANDARD
TZOFFSETFROM:+0200
TZOFFSETTO:+0100
TZNAME:CET
DTSTART:20231029T010000
END:STANDARD
END:VTIMEZONE
BEGIN:VEVENT
DTSTART;TZID=Europe/Berlin:20230426T120000
DTEND;TZID=Europe/Berlin:20230426T180000
DTSTAMP:20260421T094416
CREATED:20230412T082124Z
LAST-MODIFIED:20230412T082124Z
UID:36604-1682510400-1682532000@www.vatm.de
SUMMARY:ICT-Resilienz: Von Nice-to-have zu Need-to-have?
DESCRIPTION:Viele Menschen verstehen unter «Resilienz» vor allem die menschliche\, die persönliche Resilienz. Seit geraumer Zeit ist das Stichwort allerdings auch als IT- oder mehr noch: ICT-Resilienz zumindest in Fachkreisen in aller Munde. Natürlich schließt das die Sicherheit des Internets ein\, aber ist viel mehr als das. Dazu gehört auch die Widerstandsfähigkeit gegen die «ganz normalen» Störungen\, bei Unfällen oder größeren Katastrophen. Von daher lohnt es\, einmal Experten aus sehr verschiedenen Ecken zusammenzubringen\, um zu analysieren und zu diskutieren\, wo denn die wesentlichen Druckpunkte sind… \nWenn wir über ICT-Resilienz sprechen wollen\, geht es um eine Reihe unterschiedlicher Aspekte\, die typischerweise getrennt betrachtet werden\, obwohl doch ein integrierter ganzheitlicher Ansatz erforderlich ist. Beispiel Kritische Infrastrukturen\, bezogen auf ICT-Netze:  Die zuverlässige Verfügbarkeit von TK-Netzen ist im Alltag von hoher Bedeutung. Die Netze in Deutschland sind zwar für Notfälle gerüstet\, dennoch besteht lt. BNetzA zwischen Netzbetreibern\, Verbänden und Behörden Konsens darüber\, dass die Resilienz der Netze in Bezug auf diverse Bedrohungsszenarien weiter gestärkt werden sollte. Hinsichtlich WAN und LAN kennt jeder den berühmten Bagger\, der Leitungen aus Versehen durchtrennt. Aber es geht um viel mehr\, z.B. um gezielte physische Angriffe\, bei Seekabeln genauso wie bei Kabeln entlang der Bahnstrecken oder der Inhouse-Vernetzung.  Vieles wird in dieser Hinsicht durch redundante Strukturen und verteilte Architekturen zu mildern sein\, aber eben nicht nur. \nDarüber hinaus geht es aber auch ganz massiv um Resilienz bei Software & Systems. Wir haben für die Diskussion im Experten-Roundtable herausgegriffen \n\nAutomatisierung\, die menschliche Fehler reduziert\,\nBlockchain\, die Vertrauen und Transparenz dadurch schafft\, dass Informationen nicht mehr in Datensilos unter Verschluss gehalten\, sondern verteilt gespeichert werden\nOrganic Computing\, analog zur selbstorganisierten\, selbst-heilenden und selbst-optimierten Informationsverarbeitung in organischen Systemen\nRecovery aus entsprechenden Backup-Systemen.\n\nAbgerundet wird der Experten-Roundtable durch die Diskussion einiger Use Cases rund um das Thema Resilienz. \n\n\n\n\n\n\n\n\n\n\n\n\nDas komplette Programm finden Sie HIER. \nHier geht es zur Anmeldung: TICKETS
URL:https://www.vatm.de/event/deutsche-ict-medienakademie-ict-resilienz-von-nice-to-have-zu-need-to-have/
LOCATION:Blockchain Reallabor\, An d. Hasenkaule 10/Halle 6\, Hürth\, 50354\, Deutschland
CATEGORIES:Allgemein,Mitglieder
ATTACH;FMTTYPE=image/gif:https://www.vatm.de/wp-content/uploads/2020/06/medienakademie.gif
GEO:50.8802757;6.9084529
X-APPLE-STRUCTURED-LOCATION;VALUE=URI;X-ADDRESS=Blockchain Reallabor An d. Hasenkaule 10/Halle 6 Hürth 50354 Deutschland;X-APPLE-RADIUS=500;X-TITLE=An d. Hasenkaule 10/Halle 6:geo:6.9084529,50.8802757
END:VEVENT
END:VCALENDAR