BEGIN:VCALENDAR
VERSION:2.0
PRODID:-//VATM - Verband der Anbieter im Digital- und Telekommunikationsmarkt e. V. - ECPv5.16.3.1//NONSGML v1.0//EN
CALSCALE:GREGORIAN
METHOD:PUBLISH
X-WR-CALNAME:VATM - Verband der Anbieter im Digital- und Telekommunikationsmarkt e. V.
X-ORIGINAL-URL:https://www.vatm.de
X-WR-CALDESC:Events for VATM - Verband der Anbieter im Digital- und Telekommunikationsmarkt e. V.
BEGIN:VTIMEZONE
TZID:Europe/Berlin
BEGIN:DAYLIGHT
TZOFFSETFROM:+0100
TZOFFSETTO:+0200
TZNAME:CEST
DTSTART:20260329T010000
END:DAYLIGHT
BEGIN:STANDARD
TZOFFSETFROM:+0200
TZOFFSETTO:+0100
TZNAME:CET
DTSTART:20261025T010000
END:STANDARD
END:VTIMEZONE
BEGIN:VEVENT
DTSTART;TZID=Europe/Berlin:20260210T130000
DTEND;TZID=Europe/Berlin:20260210T140000
DTSTAMP:20260422T174232
CREATED:20260115T163244Z
LAST-MODIFIED:20260115T164518Z
UID:55468-1770728400-1770732000@www.vatm.de
SUMMARY:Datenschutz am Mittag - Datenschutzrechtliche Aspekte automatisierter Entscheidungsfindungen. Ein Prüfschema gemäß Art. 22 DSGVO
DESCRIPTION:Gerne möchten wir Sie auf die nächste Ausgabe der Stiftung Datenschutz aus der Reihe „Datenschutz am Mittag“ am 10. Februar 2026 von 13:00 bis 14:00 Uhr aufmerksam machen. \nTopic: Datenschutzrechtliche Aspekte automatisierter Entscheidungsfindungen. Ein Prüfschema gemäß Art. 22 DSGVO \nMit zunehmender Digitalisierung werden Abläufe und Prozesse automatisiert. Werden künftig Maschinen über unser Leben bestimmen? Der Artikel 22 DSGVO bildet den Rahmen für automatische Entscheidungsfindungen. Wo liegen die Grenzen? Wie kann durch Anpassung der Verarbeitungstätigkeit eine automatische Entscheidungsfindung zulässig werden? Welche Rolle spielen KI-basierte Entscheidungsfindungen und die Anforderungen aus der KI-Verordnung? \nDr. Mattis Neiling stellt ein praxisbezogenes Prüfschema vor und diskutiert Anwendungsfälle. \nReferent \nDr. Mattis Neilin ist Mathematiker und Informatiker. Seit 2020 ist er Datenschutzbeauftragter an der TU Berlin. Er promovierte über Identifizierung von Realwelt-Objekten in multiplen Datenbanken und verfügt über langjährige Erfahrung in der IT.\nDr. Mattis Neiling bloggt über Datenschutzthemen und hat 2025 das deutschlandweite Netzwerk Hochschuldatenschutz gegründet. \n\n\n\n\n\n\n\n\n\n\n\n\n\n\n\n\n\n\n\n\n \n  \nHier geht es zur ANMELDUNG. \n(Die Teilnahme ist wie gewohnt kostenlos)
URL:https://www.vatm.de/event/datenschutz-am-mittag-datenschutzrechtliche-aspekte-automatisierter-entscheidungsfindungen-ein-pruefschema-gemaess-art-22-dsgvo/
LOCATION:Online
CATEGORIES:Allgemein,Mitglieder
ATTACH;FMTTYPE=image/gif:https://www.vatm.de/wp-content/uploads/2020/11/Stiftung-Datenschutz.gif
END:VEVENT
END:VCALENDAR