BEGIN:VCALENDAR
VERSION:2.0
PRODID:-//VATM - Verband der Anbieter im Digital- und Telekommunikationsmarkt e. V. - ECPv5.16.3.1//NONSGML v1.0//EN
CALSCALE:GREGORIAN
METHOD:PUBLISH
X-WR-CALNAME:VATM - Verband der Anbieter im Digital- und Telekommunikationsmarkt e. V.
X-ORIGINAL-URL:https://www.vatm.de
X-WR-CALDESC:Events for VATM - Verband der Anbieter im Digital- und Telekommunikationsmarkt e. V.
BEGIN:VTIMEZONE
TZID:Europe/Berlin
BEGIN:DAYLIGHT
TZOFFSETFROM:+0100
TZOFFSETTO:+0200
TZNAME:CEST
DTSTART:20220327T010000
END:DAYLIGHT
BEGIN:STANDARD
TZOFFSETFROM:+0200
TZOFFSETTO:+0100
TZNAME:CET
DTSTART:20221030T010000
END:STANDARD
END:VTIMEZONE
BEGIN:VEVENT
DTSTART;TZID=Europe/Berlin:20221110T113000
DTEND;TZID=Europe/Berlin:20221110T131500
DTSTAMP:20260423T203237
CREATED:20221025T083901Z
LAST-MODIFIED:20221025T083901Z
UID:34472-1668079800-1668086100@www.vatm.de
SUMMARY:Zukunft und Innovation für Rundfunk und Kultur – Wie viel zusätzliches Spektrum brauchen DVB-T2\, 5G-Broadcast und moderne Funkmikrofone?
DESCRIPTION:Gerne möchten wir Sie auf folgende Veranstaltung hinweisen: \nDie kommende Weltfunkkonferenz (WRC) befasst sich Ende 2023 mit der internationalen Zuweisung von Frequenzen. Die Rundfunkanbieter und Kulturveranstalter in Deutschland\, Europa und darüber hinaus sind zur Sicherung ihrer gesellschaftlich relevanten Leistungen auch nach dem Jahr 2030 auf die Frequenzen im TV-UHF-Spektrum zwischen 470 und 694 MHz angewiesen. Doch neben dem bislang geregelten Bedarf gibt es notwendige technische Innovationen\, die ebenfalls Frequenzen benötigen. Die „Allianz für Rundfunk- und Kulturfrequenzen“ möchten mit Ihnen über dieses wichtige Thema diskutieren. \nAls Mitglied dieser Allianz laden wir Sie herzlich ein \nzu einer Online-Konferenz \nam Donnerstag\, den 10. November 2022\, von 11.30 bis 13.15 Uhr: \n  \n„Zukunft und Innovation für Rundfunk und Kultur – Wie viel zusätzliches Spektrum brauchen DVB-T2\, 5G-Broadcast und moderne Funkmikrofone?“ \n  \nWir freuen uns über eine Keynote von Staatssekretärin Heike Raab\, Bevollmächtigte des Landes Rheinland-Pfalz beim Bund und für Medien und Europa\, Koordinatorin der Rundfunkkommission der Länder. \nDas Programm für die Veranstaltung finden Sie beigefügt. Die Veranstaltung richtet sich an die Bundes- und Landespolitik\, europäische und internationale Frequenzgremien\, mit Frequenzfragen befasste Ministerien und Behörden\, Verbände und Institutionen\, Presse/Medien sowie die interessierte Öffentlichkeit. Wir bitten um Nachsicht\, sollte diese Einladung Sie doppelt auch über andere Mitglieder der Allianz erreichen oder erreicht haben. \n  \nDie „Allianz für Rundfunk- und Kulturfrequenzen“ ist eine gemeinsame Initiative von ARD\, Deutschlandradio\, Media Broadcast\, den Medienanstalten\, SOS – Save Our Spectrum\, Sennheiser\, VAUNET\, ZDF und des Verbands der Elektro- und Digitalindustrie ZVEI. Sie setzt sich\, insbesondere bei den politischen Entscheiderinnen und Entscheidern\, für ein notwendiges Frequenzspektrum ein\, um damit die Vielfalt von Rundfunk und Kultur und eine Zukunftsperspektive zu sichern. \n  \nBei Interesse melden Sie sich bitte bis zum 7. November 2022 an unter veranstaltungen@ard-gs.de. Der Link zur digitalen Konferenz geht Ihnen rechtzeitig vor der Veranstaltung zu.
URL:https://www.vatm.de/event/allianz-rundfunk-kulturfrequenzen/
LOCATION:Online
CATEGORIES:Allgemein,Mitglieder
ATTACH;FMTTYPE=image/jpeg:https://www.vatm.de/wp-content/uploads/2022/10/zvei-allianz.jpg
END:VEVENT
END:VCALENDAR