BEGIN:VCALENDAR
VERSION:2.0
PRODID:-//VATM - Verband der Anbieter im Digital- und Telekommunikationsmarkt e. V. - ECPv5.16.3.1//NONSGML v1.0//EN
CALSCALE:GREGORIAN
METHOD:PUBLISH
X-WR-CALNAME:VATM - Verband der Anbieter im Digital- und Telekommunikationsmarkt e. V.
X-ORIGINAL-URL:https://www.vatm.de
X-WR-CALDESC:Events for VATM - Verband der Anbieter im Digital- und Telekommunikationsmarkt e. V.
BEGIN:VTIMEZONE
TZID:Europe/Berlin
BEGIN:DAYLIGHT
TZOFFSETFROM:+0100
TZOFFSETTO:+0200
TZNAME:CEST
DTSTART:20260329T010000
END:DAYLIGHT
BEGIN:STANDARD
TZOFFSETFROM:+0200
TZOFFSETTO:+0100
TZNAME:CET
DTSTART:20261025T010000
END:STANDARD
END:VTIMEZONE
BEGIN:VEVENT
DTSTART;TZID=Europe/Berlin:20260219T140000
DTEND;TZID=Europe/Berlin:20260219T170000
DTSTAMP:20260422T173810
CREATED:20260115T141319Z
LAST-MODIFIED:20260115T141611Z
UID:55446-1771509600-1771520400@www.vatm.de
SUMMARY:6. VATM-Bonner Werkstattgespräche
DESCRIPTION:Der Geschäftskundenmarkt steht für rund ein Drittel des Branchenumsatzes. Diese Zahl spiegelt jedoch nicht die tatsächliche Bedeutung dieses Marktsegments wider. Ohne eine leistungsfähige Gigabit-Anbindung ist die digitale Transformation der Geschäftsmodelle in Industrie und Wirtschaft nicht zu bewältigen. \nSoll die Digitalisierung der Unternehmen gelingen und Deutschland seine globale Wettbewerbsfähigkeit sichern\, muss die digitale Konnektivität Spitzenklasse erreichen. Voraussetzung dafür ist ein dynamischer Wettbewerb\, der Innovationen fördert und Investitionen ermöglicht. Die aktuellen Marktentwicklungen geben jedoch Anlass zur Sorge: steigende Marktanteile des marktbeherrschenden Unternehmens sowie eine rückläufige Anbieter- und Produktvielfalt sind Entwicklungen\, denen entschieden entgegengewirkt werden muss. \nWie und in welcher Form dies geschehen kann\, möchten wir gerne mit Ihnen im Rahmen der nächsten Bonner Werkstattgespräche am Donnerstag\, den 19. Februar 2026\, von 14:00 bis 17:00 Uhr in Bonn.  \nDas Konzept der Bonner Werkstattgespräche \nDie Bonner Werkstattgespräch bieten einen exklusiven Rahmen für den fachlichen Austausch ausgewählter Expertinnen und Experten aus Wirtschaft\, Wissenschaft und Politik. In vertraulicher Atmosphäre – unter Anwendung der Chatham House Rule – werden zentrale Branchenthemen offen diskutiert und praxisnahe Lösungsansätze entwickelt. Das kompakte\, konzentrierte Format fördert den direkten Dialog und schafft Raum für substanzielle Diskussionen auf Augenhöhe. \nBitte beachten Sie\, dass eine Teilnahme nur auf persönliche Einladung möglich ist. Bei Interesse wenden Sie sich bitte an Herrn Andreas Vogel unter +49 163 – 51 85 931 oder per E-Mail an av@vatm.de.
URL:https://www.vatm.de/event/6-vatm-bonner-werkstattgespraeche/
LOCATION:Bundeskunsthalle Bonn\, Helmut-Kohl-Allee 4\, Bonn\, 53113\, Deutschland
CATEGORIES:Allgemein,Mitglieder
ATTACH;FMTTYPE=image/jpeg:https://www.vatm.de/wp-content/uploads/2026/01/99682599-8391-4aea-ab3a-04bce57c8226.jpg
END:VEVENT
END:VCALENDAR