BEGIN:VCALENDAR
VERSION:2.0
PRODID:-//VATM - Verband der Anbieter im Digital- und Telekommunikationsmarkt e. V. - ECPv5.16.3.1//NONSGML v1.0//EN
CALSCALE:GREGORIAN
METHOD:PUBLISH
X-WR-CALNAME:VATM - Verband der Anbieter im Digital- und Telekommunikationsmarkt e. V.
X-ORIGINAL-URL:https://www.vatm.de
X-WR-CALDESC:Events for VATM - Verband der Anbieter im Digital- und Telekommunikationsmarkt e. V.
BEGIN:VTIMEZONE
TZID:Europe/Berlin
BEGIN:DAYLIGHT
TZOFFSETFROM:+0100
TZOFFSETTO:+0200
TZNAME:CEST
DTSTART:20180325T010000
END:DAYLIGHT
BEGIN:STANDARD
TZOFFSETFROM:+0200
TZOFFSETTO:+0100
TZNAME:CET
DTSTART:20181028T010000
END:STANDARD
END:VTIMEZONE
BEGIN:VEVENT
DTSTART;TZID=Europe/Berlin:20181010T120000
DTEND;TZID=Europe/Berlin:20181010T180000
DTSTAMP:20260425T190004
CREATED:20180828T231521Z
LAST-MODIFIED:20180903T101050Z
UID:7562-1539172800-1539194400@www.vatm.de
SUMMARY:4. Smart Maintenance-Experten-Roundtable
DESCRIPTION:Predictive Monitoring – Mit Fernwartung aus der Stillstandsfalle? \nAlle Informationen zum Programmablauf und Anmeldung finden Sie HIER. \nVATM-Mitglieder profitieren von einer vergünstigten Teilnehmergebühr!
URL:https://www.vatm.de/event/4-smart-maintenance-experten-roundtable/
LOCATION:KPMG AG\, Barbarossaplatz 1a\, Köln\, 50674
CATEGORIES:Allgemein,Mitglieder
END:VEVENT
END:VCALENDAR