BEGIN:VCALENDAR
VERSION:2.0
PRODID:-//VATM - Verband der Anbieter im Digital- und Telekommunikationsmarkt e. V. - ECPv5.16.3.1//NONSGML v1.0//EN
CALSCALE:GREGORIAN
METHOD:PUBLISH
X-WR-CALNAME:VATM - Verband der Anbieter im Digital- und Telekommunikationsmarkt e. V.
X-ORIGINAL-URL:https://www.vatm.de
X-WR-CALDESC:Events for VATM - Verband der Anbieter im Digital- und Telekommunikationsmarkt e. V.
BEGIN:VTIMEZONE
TZID:Europe/Berlin
BEGIN:DAYLIGHT
TZOFFSETFROM:+0100
TZOFFSETTO:+0200
TZNAME:CEST
DTSTART:20220327T010000
END:DAYLIGHT
BEGIN:STANDARD
TZOFFSETFROM:+0200
TZOFFSETTO:+0100
TZNAME:CET
DTSTART:20221030T010000
END:STANDARD
END:VTIMEZONE
BEGIN:VEVENT
DTSTART;TZID=Europe/Berlin:20220928T120000
DTEND;TZID=Europe/Berlin:20220929T133000
DTSTAMP:20260426T033330
CREATED:20220801T105639Z
LAST-MODIFIED:20220805T131216Z
UID:31846-1664366400-1664458200@www.vatm.de
SUMMARY:19. dibkom Fachtagung: Gigaspeed-Internet in jede Wohnung
DESCRIPTION:Nach der durch Corona bedingten Pause setzt das Deutsche Institut für Breitbandkommunikation gGmbH (dibkom) seine erfolgreiche Serie der Fachtagungen fort. Am 28./29. September werden in Berlin unter dem Titel „Gigaspeed-Internet in jede Wohnung“ die aktuellen Themen der Kabelbranche in zahlreichen Präsentationen behandelt. \nHier finden Sie das Programm: \n220720_Dibkom_Programm_Fachtagung_A4 \nZur Anmeldung geht es hier: \n220518_Dibkom_Fachtagung_Anmeldeformular_A4_LY07 \n  \n 
URL:https://www.vatm.de/event/19-dibkom-fachtagung-gigaspeed-internet-in-jede-wohnung/
LOCATION:atene KOM Akademie\, Schwartzkopffstraße 11\, Berlin\, 10115\, Deutschland
CATEGORIES:Allgemein,Mitglieder
ATTACH;FMTTYPE=image/jpeg:https://www.vatm.de/wp-content/uploads/2022/08/220519_dibkom_Fachtagung_Hero_Banner_Footer_1600_551px_4-1024x353-1.jpg
GEO:52.5357701;13.3816181
X-APPLE-STRUCTURED-LOCATION;VALUE=URI;X-ADDRESS=atene KOM Akademie Schwartzkopffstraße 11 Berlin 10115 Deutschland;X-APPLE-RADIUS=500;X-TITLE=Schwartzkopffstraße 11:geo:13.3816181,52.5357701
END:VEVENT
END:VCALENDAR